BEGIN:VCALENDAR
VERSION:2.0
PRODID:-//wp-events-plugin.com//6.6.4.4//EN
TZID:Europe/Berlin
X-WR-TIMEZONE:Europe/Berlin
BEGIN:VEVENT
UID:24@wildensteiner-sv.de
DTSTART;TZID=Europe/Berlin:20180527T150000
DTEND;TZID=Europe/Berlin:20180527T150000
DTSTAMP:20180422T171541Z
URL:https://wildensteiner-sv.de/events/nachmittagsfeier-im-erzgebirgshof-l
 engefeld/
SUMMARY:Nachmittagsfeier im Erzgebirgshof Lengefeld
DESCRIPTION:Zusammen mit dem Volkschor Borstendorf unterhalten unsere Nachw
 uchsgruppen am bunten Nachmittag im Erzgebirgshof Lengefeld.\n\n
ATTACH;FMTTYPE=image/jpeg:https://wildensteiner-sv.de/wp-content/uploads/2
 018/02/FFF19654-6C89-40C9-B270-B862012CAE2F.jpeg
CATEGORIES:Allgemeine Sportgruppe
LOCATION:Erzgebirgshof Lengefeld\, August-Bebel-Weg 3\, Pockau-Lengefeld\, 
 09514\, Deutschland
X-APPLE-STRUCTURED-LOCATION;VALUE=URI;X-ADDRESS=August-Bebel-Weg 3\, Pockau
 -Lengefeld\, 09514\, Deutschland;X-APPLE-RADIUS=100;X-TITLE=Erzgebirgshof 
 Lengefeld:geo:0,0
END:VEVENT
BEGIN:VTIMEZONE
TZID:Europe/Berlin
X-LIC-LOCATION:Europe/Berlin
BEGIN:DAYLIGHT
DTSTART:20180325T030000
TZOFFSETFROM:+0100
TZOFFSETTO:+0200
TZNAME:CEST
END:DAYLIGHT
END:VTIMEZONE
END:VCALENDAR