BEGIN:VCALENDAR
VERSION:2.0
PRODID:-//wp-events-plugin.com//6.6.4.4//EN
TZID:Europe/Berlin
X-WR-TIMEZONE:Europe/Berlin
BEGIN:VEVENT
UID:90@wildensteiner-sv.de
DTSTART;TZID=Europe/Berlin:20250830T133000
DTEND;TZID=Europe/Berlin:20250830T140000
DTSTAMP:20250828T210103Z
URL:https://wildensteiner-sv.de/events/familien-sportfest-in-gruenberg/
SUMMARY:Familien-Sportfest in Grünberg
DESCRIPTION:Wir sind mit unseren Kinder- und Nachwuchsgruppen mit dabei: am
  30. August 2025 auf dem Sportplatz in Grünberg (Augustusburg) zum Famili
 en-Sportfest! Drückt die Daumen für schönes Sport-Wetter!\n\n&nbsp\;
ATTACH;FMTTYPE=image/jpeg:https://wildensteiner-sv.de/wp-content/uploads/2
 025/08/IMG-20250828-WA0010.jpg
CATEGORIES:Allgemeine Sportgruppe
LOCATION:Sportplatz Grünberg\, Sportplatz\, Grünberg (Augustusburg)\, Deu
 tschland
X-APPLE-STRUCTURED-LOCATION;VALUE=URI;X-ADDRESS=Sportplatz\, Grünberg (Aug
 ustusburg)\, Deutschland;X-APPLE-RADIUS=100;X-TITLE=Sportplatz Grünberg:g
 eo:0,0
END:VEVENT
BEGIN:VTIMEZONE
TZID:Europe/Berlin
X-LIC-LOCATION:Europe/Berlin
BEGIN:DAYLIGHT
DTSTART:20250330T030000
TZOFFSETFROM:+0100
TZOFFSETTO:+0200
TZNAME:CEST
END:DAYLIGHT
END:VTIMEZONE
END:VCALENDAR