BEGIN:VCALENDAR
VERSION:2.0
PRODID:-//wp-events-plugin.com//6.6.4.4//EN
TZID:Europe/Berlin
X-WR-TIMEZONE:Europe/Berlin
BEGIN:VEVENT
UID:84@wildensteiner-sv.de
DTSTART;TZID=Europe/Berlin:20250927T183000
DTEND;TZID=Europe/Berlin:20250927T220000
DTSTAMP:20250501T174843Z
URL:https://wildensteiner-sv.de/events/auftritt-zur-stv-turngala-kulturhau
 ptstadt-chemnitz/
SUMMARY:Auftritt zur STV-Turngala Kulturhauptstadt Chemnitz
DESCRIPTION:Der Sächsische Turnverband (STV) e.V. veranstaltet in Kooperat
 ion mit dem VTB Chemnitz erstmalig eine STV-Turngala\, wo die Faszination 
 unserer Sportarten in der Kulturhauptstadt Europas präsentiert wird. Wir 
 sind mit dabei!!!! Verpasst nicht dieses einmalige Event\, Chemnitz ist nu
 r dieses Jahr Kulturhauptstadt Europas.\n\n&nbsp\;\n\n
ATTACH;FMTTYPE=image/jpeg:https://wildensteiner-sv.de/wp-content/uploads/2
 025/05/WhatsApp-Bild-2025-05-01-um-19.47.24_510fce7b.jpg
CATEGORIES:Jump Crew
LOCATION:Richard-Hartmann-Halle Chemnitz\, Fabrikstraße 9\, Chemnitz\, 091
 11\, Deutschland
X-APPLE-STRUCTURED-LOCATION;VALUE=URI;X-ADDRESS=Fabrikstraße 9\, Chemnitz\
 , 09111\, Deutschland;X-APPLE-RADIUS=100;X-TITLE=Richard-Hartmann-Halle Ch
 emnitz:geo:0,0
END:VEVENT
BEGIN:VTIMEZONE
TZID:Europe/Berlin
X-LIC-LOCATION:Europe/Berlin
BEGIN:DAYLIGHT
DTSTART:20250330T030000
TZOFFSETFROM:+0100
TZOFFSETTO:+0200
TZNAME:CEST
END:DAYLIGHT
END:VTIMEZONE
END:VCALENDAR